BEGIN:VCALENDAR
VERSION:2.0
PRODID:-//Parma Area Chamber of Commerce - ECPv6.15.20//NONSGML v1.0//EN
CALSCALE:GREGORIAN
METHOD:PUBLISH
X-WR-CALNAME:Parma Area Chamber of Commerce
X-ORIGINAL-URL:https://parmaareachamber.org
X-WR-CALDESC:Events for Parma Area Chamber of Commerce
REFRESH-INTERVAL;VALUE=DURATION:PT1H
X-Robots-Tag:noindex
X-PUBLISHED-TTL:PT1H
BEGIN:VTIMEZONE
TZID:UTC
BEGIN:STANDARD
TZOFFSETFROM:+0000
TZOFFSETTO:+0000
TZNAME:UTC
DTSTART:20190101T000000
END:STANDARD
END:VTIMEZONE
BEGIN:VEVENT
DTSTART;TZID=UTC:20200720T080000
DTEND;TZID=UTC:20200720T130000
DTSTAMP:20260421T224353
CREATED:20200623T191235Z
LAST-MODIFIED:20200710T191232Z
UID:972-1595232000-1595250000@parmaareachamber.org
SUMMARY:Chamber Golf Day
DESCRIPTION:Ridgewood Municipal Golf Course \n\n6505 Ridge Rd\, Parma\, OH 44129\n[Limited to 110 golfers]\n\nRegistration fee includes: Breakfast\, Lunch\, 2 drinks\, and unlimited water. A portion of the proceeds will be used to buy PPE to help small businesses in need.\n\nCOST:\n• 9 holes $35.00/player\nhttps://checkout.square.site/pay/fd4e04119c1448d5b9031ab7833ae655\n• 18 holes $55.00/ player\nhttps://checkout.square.site/pay/31c9813cc59f4a1aa0caa95b463acb36\n\nRegister Here: REGISTER TODAY!\nPay via the links above. \n\nPlease make checks out to Parma Area Chamber of Commerce.\nMailing address: 5790 Ridge Road\, Parma\, OH 44129\n\nQuestions about the event? Email Nicky Sulandari at verycoolidea@gmail.com \nWe are following CDC protocol\, social distancing and Governor DeWine’s orders that masks be worn in Cuyahoga County:\n• In any indoor location\n• If you’re outdoors and unable to consistently maintain a distance of 6 feet or more from individuals who are not members of your household
URL:https://parmaareachamber.org/event/chamber-golf-day/
END:VEVENT
BEGIN:VEVENT
DTSTART;TZID=UTC:20200717T083000
DTEND;TZID=UTC:20200717T093000
DTSTAMP:20260421T224353
CREATED:20200706T214630Z
LAST-MODIFIED:20200706T215036Z
UID:989-1594974600-1594978200@parmaareachamber.org
SUMMARY:Chambers Virtual Networking
DESCRIPTION:Collaborative Chambers Alliance – Virtual Networking\n\n\nFriday\, July 17\, 2020 from 8:30-9:30 AM\n\n\n \n\n\nJoin the Collaborative Chambers Alliance for Virtual Networking!\n\nCollaborative Chambers Alliance includes: Berea\, Middleburg Hts\, Brooklyn\, Parma\, Olmsted falls\, Chinese\, Hungarian\, Nigerian\, French\, British \nJoin Zoom Meeting: \nhttps://us02web.zoom.us/j/87511218121?pwd=RDVITEtnMEswRkZoNUN6WExVQkliZz09 \nMeeting ID: 875 1121 8121 \nPassword: 491455
URL:https://parmaareachamber.org/event/chambers-virtual-networking/
END:VEVENT
BEGIN:VEVENT
DTSTART;TZID=UTC:20200717T000000
DTEND;TZID=UTC:20200717T000000
DTSTAMP:20260421T224353
CREATED:20200717T154147Z
LAST-MODIFIED:20200719T130529Z
UID:1010-1594944000-1594944000@parmaareachamber.org
SUMMARY:Covid-19 Tax Relief Measures & Cyber Security Webinar
DESCRIPTION:Join us for a FREE business webinar with Anthony Palmer\, Stakeholder Liason with the IRS. \nMr. Palmer will discuss COVID-19 tax relief measures currently available and touch on cyber security for businesses. \n\nHosted by the Olmsted Chamber of Commerce in collaboration with the Collaborative Chambers Alliance and our partner Chambers.
URL:https://parmaareachamber.org/event/covid-19-tax-relief-measures-cyber-security-webinar/
END:VEVENT
BEGIN:VEVENT
DTSTART;TZID=UTC:20200624T113000
DTEND;TZID=UTC:20200624T123000
DTSTAMP:20260421T224353
CREATED:20200623T113007Z
LAST-MODIFIED:20200623T191821Z
UID:976-1592998200-1593001800@parmaareachamber.org
SUMMARY:PACC Lunch & Learn with the SBA (Small Business Administration)
DESCRIPTION:  \nPACC Lunch & Learn with the SBA (Small Business Administration)\nWednesday\, June 24 at 11:30 AM \nJoin us for a Lunch & Learn with Raymond L. Graves from the SBA. Mr. Graves will lead a discussion\, give updates and programs details for businesses in the light of COVID-19. \nRay Graves is the lead lender relations specialist for the SBA Cleveland District Office. He’s worked for the office for the last 7 years\, but has been in SBA lending in various capacities since 1997. \nJoin Zoom Meeting:\nhttps://us02web.zoom.us/j/84603223381\nMeeting ID: 846 0322 3381 \n*No Registration Required. This is a FREE event.* \nHAVE A QUESTION?\nSubmit your questions in advance to: chamber@parmaareachamber.org\n(we will cover as many questions as we can
URL:https://parmaareachamber.org/event/pacc-lunch-learn-with-the-sba-small-business-administration/
END:VEVENT
END:VCALENDAR